Workbook

Sheet Valor do Ponto
B1: Valor do Ponto da GDAPA - Classe / Padrão SIII - em R$
C3: 2009 | D3: 2010 | E3: 2011 | F3: 2012 | G3: 2013 | H3: 2014 | I3: 2015 | J3: 2016 | K3: 2017 | L3: 2018 | M3: 2019
B4: Janeiro | C4: 26.33 | D4: 27.52 | E4: 30.15 | F4: 30.15 | G4: 30.15 | H4: 46.75 | I4: 56.38 | J4: 56.38 | K4: 63.63 | L4: 67.85 | M4: 72.13
B5: Fevereiro | C5: 26.33 | D5: 27.52 | E5: 30.15 | F5: 30.15 | G5: 30.15 | H5: 46.75 | I5: 56.38 | J5: 56.38 | K5: 63.63 | L5: 67.85 | M5: 72.13
B6: Março | C6: 26.33 | D6: 27.52 | E6: 30.15 | F6: 30.15 | G6: 30.15 | H6: 46.75 | I6: 56.38 | J6: 56.38 | K6: 63.63 | L6: 67.85 | M6: 72.13
B7: Abril | C7: 26.33 | D7: 27.52 | E7: 30.15 | F7: 30.15 | G7: 30.15 | H7: 46.75 | I7: 56.38 | J7: 56.38 | K7: 63.63 | L7: 67.85 | M7: 72.13
B8: Maio | C8: 26.33 | D8: 27.52 | E8: 30.15 | F8: 30.15 | G8: 30.15 | H8: 46.75 | I8: 56.38 | J8: 56.38 | K8: 63.63 | L8: 67.85 | M8: 72.13
B9: Junho | C9: 26.33 | D9: 27.52 | E9: 30.15 | F9: 30.15 | G9: 30.15 | H9: 46.75 | I9: 56.38 | J9: 56.38 | K9: 63.63 | L9: 67.85 | M9: 72.13
B10: Julho | C10: 27.52 | D10: 30.15 | E10: 30.15 | F10: 30.15 | G10: 30.15 | H10: 46.75 | I10: 56.38 | J10: 56.38 | K10: 63.63 | L10: 67.85 | M10: 72.13
B11: Agosto | C11: 27.52 | D11: 30.15 | E11: 30.15 | F11: 30.15 | G11: 30.15 | H11: 46.75 | I11: 56.38 | J11: 56.38 | K11: 63.63 | L11: 67.85 | M11: 72.13
B12: Setembro | C12: 27.52 | D12: 30.15 | E12: 30.15 | F12: 30.15 | G12: 30.15 | H12: 46.75 | I12: 56.38 | J12: 56.38 | K12: 63.63 | L12: 67.85 | M12: 72.13
B13: Outubro | C13: 27.52 | D13: 30.15 | E13: 30.15 | F13: 30.15 | G13: 30.15 | H13: 46.75 | I13: 56.38 | J13: 56.38 | K13: 63.63 | L13: 67.85 | M13: 72.13
B14: Novembro | C14: 27.52 | D14: 30.15 | E14: 30.15 | F14: 30.15 | G14: 30.15 | H14: 46.75 | I14: 56.38 | J14: 56.38 | K14: 63.63 | L14: 67.85 | M14: 72.13
B15: Dezembro | C15: 27.52 | D15: 30.15 | E15: 30.15 | F15: 30.15 | G15: 30.15 | H15: 46.75 | I15: 56.38 | J15: 56.38 | K15: 63.63 | L15: 67.85 | M15: 72.13

Sheet Cálculo Nova regra
B1: Simulações da quantidade de pontos de GDAPA na solicitação de Aposentadoria* | J1: Simulações da quantidade de pontos de GDAPA na solicitação de Aposentadoria*
B2: *Considerando o recebimento de 100 pontos na Classe/Padrão SIII desde 2009 | J2: *Considerando o recebimento de 100 pontos na Classe/Padrão SIII desde 2009
B4: Regra Lei nº 10.550/2002 | J4: Regra Lei nº 13.371/2016
B5: Solicitando a aposentadoria em | D5: (1) Total dos valores recebidos nos últimos 60 meses em R$ | E5: (2) Média de Gratificação dos últimos 60 meses em R$ | F5: (3) Valor do ponto no mês da aposentadoria em R$ | G5: (4) Valor de pontos para recebimento na aposentadoria | H5: Perda de R$ no salário bruto/mês | J5: Solicitando a aposentadoria em | L5: Média dos pontos recebidos nos últimos 60 meses | M5: Valor (R$) aplicado à média no ponto vigente | N5: Optando pela nova Regra | O5: Valor R$ | P5: Perda (R$ mês) em relação a 100 pts | Q5: Diferença da regra atual (R$) / mês*
B6: 2017 | C6: Janeiro | D6: =(SUM('Valor do Ponto'!F4:J15)*100) -> 263772 | E6: =D6/60 -> 4396.2 | F6: ='Valor do Ponto'!K4 -> 63.63 | G6: =E6/F6 -> 69.090052 | H6: =(F6*100)-(G6*F6) -> 1966.8 | J6: 2017 | K6: Janeiro | L6: 100 | M6: =L6*F6 -> 6363 | N6: 0.67 | O6: =N6*M6 -> 4263.21 | P6: =M6-O6 -> 2099.79 | Q6: =H6-P6 -> -132.99
C7: Fevereiro | D7: =(SUM('Valor do Ponto'!G4:J15,'Valor do Ponto'!K4,'Valor do Ponto'!F5:F15)*100) -> 267120 | E7: =D7/60 -> 4452 | F7: ='Valor do Ponto'!K5 -> 63.63 | G7: =E7/F7 -> 69.966997 | H7: =(F7*100)-(G7*F7) -> 1911 | K7: Fevereiro | L7: 100 | M7: =L7*F7 -> 6363 | N7: 0.67 | O7: =N7*M7 -> 4263.21 | P7: =M7-O7 -> 2099.79 | Q7: =H7-P7 -> -188.79
C8: Março | D8: =(SUM('Valor do Ponto'!K4:K5,'Valor do Ponto'!G4:J15,'Valor do Ponto'!F6:F15)*100) -> 270468 | E8: =D8/60 -> 4507.8 | F8: ='Valor do Ponto'!K6 -> 63.63 | G8: =E8/F8 -> 70.843942 | H8: =(F8*100)-(G8*F8) -> 1855.2 | K8: Março | L8: 100 | M8: =L8*F8 -> 6363 | N8: 0.67 | O8: =N8*M8 -> 4263.21 | P8: =M8-O8 -> 2099.79 | Q8: =H8-P8 -> -244.59
C9: Abril | D9: =(SUM('Valor do Ponto'!K4:K6,'Valor do Ponto'!G4:J15,'Valor do Ponto'!F7:F15)*100) -> 273816 | E9: =D9/60 -> 4563.6 | F9: ='Valor do Ponto'!K7 -> 63.63 | G9: =E9/F9 -> 71.720886 | H9: =(F9*100)-(G9*F9) -> 1799.4 | K9: Abril | L9: 100 | M9: =L9*F9 -> 6363 | N9: 0.67 | O9: =N9*M9 -> 4263.21 | P9: =M9-O9 -> 2099.79 | Q9: =H9-P9 -> -300.39
C10: Maio | D10: =(SUM('Valor do Ponto'!K4:K7,'Valor do Ponto'!G4:J15,'Valor do Ponto'!F8:F15)*100) -> 277164 | E10: =D10/60 -> 4619.4 | F10: ='Valor do Ponto'!K8 -> 63.63 | G10: =E10/F10 -> 72.597831 | H10: =(F10*100)-(G10*F10) -> 1743.6 | K10: Maio | L10: 100 | M10: =L10*F10 -> 6363 | N10: 0.67 | O10: =N10*M10 -> 4263.21 | P10: =M10-O10 -> 2099.79 | Q10: =H10-P10 -> -356.19
C11: Junho | D11: =(SUM('Valor do Ponto'!K4:K8,'Valor do Ponto'!G4:J15,'Valor do Ponto'!F9:F15)*100) -> 280512 | E11: =D11/60 -> 4675.2 | F11: ='Valor do Ponto'!K9 -> 63.63 | G11: =E11/F11 -> 73.474776 | H11: =(F11*100)-(G11*F11) -> 1687.8 | K11: Junho | L11: 100 | M11: =L11*F11 -> 6363 | N11: 0.67 | O11: =N11*M11 -> 4263.21 | P11: =M11-O11 -> 2099.79 | Q11: =H11-P11 -> -411.99
C12: Julho | D12: =(SUM('Valor do Ponto'!K4:K9,'Valor do Ponto'!G4:J15,'Valor do Ponto'!F10:F15)*100) -> 283860 | E12: =D12/60 -> 4731 | F12: ='Valor do Ponto'!K10 -> 63.63 | G12: =E12/F12 -> 74.351721 | H12: =(F12*100)-(G12*F12) -> 1632 | K12: Julho | L12: 100 | M12: =L12*F12 -> 6363 | N12: 0.67 | O12: =N12*M12 -> 4263.21 | P12: =M12-O12 -> 2099.79 | Q12: =H12-P12 -> -467.79
C13: Agosto | D13: =(SUM('Valor do Ponto'!K4:K10,'Valor do Ponto'!G4:J15,'Valor do Ponto'!F11:F15)*100) -> 287208 | E13: =D13/60 -> 4786.8 | F13: ='Valor do Ponto'!K11 -> 63.63 | G13: =E13/F13 -> 75.228666 | H13: =(F13*100)-(G13*F13) -> 1576.2 | K13: Agosto | L13: 100 | M13: =L13*F13 -> 6363 | N13: 0.67 | O13: =N13*M13 -> 4263.21 | P13: =M13-O13 -> 2099.79 | Q13: =H13-P13 -> -523.59
C14: Setembro | D14: =(SUM('Valor do Ponto'!K4:K11,'Valor do Ponto'!G4:J15,'Valor do Ponto'!F12:F15)*100) -> 290556 | E14: =D14/60 -> 4842.6 | F14: ='Valor do Ponto'!K12 -> 63.63 | G14: =E14/F14 -> 76.105611 | H14: =(F14*100)-(G14*F14) -> 1520.4 | K14: Setembro | L14: 100 | M14: =L14*F14 -> 6363 | N14: 0.67 | O14: =N14*M14 -> 4263.21 | P14: =M14-O14 -> 2099.79 | Q14: =H14-P14 -> -579.39
C15: Outubro | D15: =(SUM('Valor do Ponto'!K4:K12,'Valor do Ponto'!G4:J15,'Valor do Ponto'!F13:F15)*100) -> 293904 | E15: =D15/60 -> 4898.4 | F15: ='Valor do Ponto'!K13 -> 63.63 | G15: =E15/F15 -> 76.982555 | H15: =(F15*100)-(G15*F15) -> 1464.6 | K15: Outubro | L15: 100 | M15: =L15*F15 -> 6363 | N15: 0.67 | O15: =N15*M15 -> 4263.21 | P15: =M15-O15 -> 2099.79 | Q15: =H15-P15 -> -635.19
C16: Novembro | D16: =(SUM('Valor do Ponto'!K4:K13,'Valor do Ponto'!G4:J15,'Valor do Ponto'!F14:F15)*100) -> 297252 | E16: =D16/60 -> 4954.2 | F16: ='Valor do Ponto'!K14 -> 63.63 | G16: =E16/F16 -> 77.8595 | H16: =(F16*100)-(G16*F16) -> 1408.8 | K16: Novembro | L16: 100 | M16: =L16*F16 -> 6363 | N16: 0.67 | O16: =N16*M16 -> 4263.21 | P16: =M16-O16 -> 2099.79 | Q16: =H16-P16 -> -690.99
C17: Dezembro | D17: =(SUM('Valor do Ponto'!K4:K14,'Valor do Ponto'!G4:J15,'Valor do Ponto'!F15)*100) -> 300600 | E17: =D17/60 -> 5010 | F17: ='Valor do Ponto'!K15 -> 63.63 | G17: =E17/F17 -> 78.736445 | H17: =(F17*100)-(G17*F17) -> 1353 | K17: Dezembro | L17: 100 | M17: =L17*F17 -> 6363 | N17: 0.67 | O17: =N17*M17 -> 4263.21 | P17: =M17-O17 -> 2099.79 | Q17: =H17-P17 -> -746.79
B18: 2018 | C18: Janeiro | D18: =(SUM('Valor do Ponto'!G4:K15)*100) -> 303948 | E18: =D18/60 -> 5065.8 | F18: ='Valor do Ponto'!L4 -> 67.85 | G18: =E18/F18 -> 74.661754 | H18: =(F18*100)-(G18*F18) -> 1719.2 | J18: 2018 | K18: Janeiro | L18: 100 | M18: =L18*F18 -> 6785 | N18: 0.84 | O18: =N18*M18 -> 5699.4 | P18: =M18-O18 -> 1085.6 | Q18: =H18-P18 -> 633.6
C19: Fevereiro | D19: =(SUM('Valor do Ponto'!L4,'Valor do Ponto'!H4:K15,'Valor do Ponto'!G5:G15)*100) -> 307718 | E19: =D19/60 -> 5128.6333 | F19: ='Valor do Ponto'!L5 -> 67.85 | G19: =E19/F19 -> 75.587816 | H19: =(F19*100)-(G19*F19) -> 1656.3667 | K19: Fevereiro | L19: 100 | M19: =L19*F19 -> 6785 | N19: 0.84 | O19: =N19*M19 -> 5699.4 | P19: =M19-O19 -> 1085.6 | Q19: =H19-P19 -> 570.76667
C20: Março | D20: =(SUM('Valor do Ponto'!L4:L5,'Valor do Ponto'!H4:K15,'Valor do Ponto'!G6:G15)*100) -> 311488 | E20: =D20/60 -> 5191.4667 | F20: ='Valor do Ponto'!L6 -> 67.85 | G20: =E20/F20 -> 76.513879 | H20: =(F20*100)-(G20*F20) -> 1593.5333 | K20: Março | L20: 100 | M20: =L20*F20 -> 6785 | N20: 0.84 | O20: =N20*M20 -> 5699.4 | P20: =M20-O20 -> 1085.6 | Q20: =H20-P20 -> 507.93333
C21: Abril | D21: =(SUM('Valor do Ponto'!L4:L6,'Valor do Ponto'!H4:K15,'Valor do Ponto'!G7:G15)*100) -> 315258 | E21: =D21/60 -> 5254.3 | F21: ='Valor do Ponto'!L7 -> 67.85 | G21: =E21/F21 -> 77.439941 | H21: =(F21*100)-(G21*F21) -> 1530.7 | K21: Abril | L21: 100 | M21: =L21*F21 -> 6785 | N21: 0.84 | O21: =N21*M21 -> 5699.4 | P21: =M21-O21 -> 1085.6 | Q21: =H21-P21 -> 445.1
C22: Maio | D22: =(SUM('Valor do Ponto'!L4:L7,'Valor do Ponto'!H4:K15,'Valor do Ponto'!G8:G15)*100) -> 319028 | E22: =D22/60 -> 5317.1333 | F22: ='Valor do Ponto'!L8 -> 67.85 | G22: =E22/F22 -> 78.366003 | H22: =(F22*100)-(G22*F22) -> 1467.8667 | K22: Maio | L22: 100 | M22: =L22*F22 -> 6785 | N22: 0.84 | O22: =N22*M22 -> 5699.4 | P22: =M22-O22 -> 1085.6 | Q22: =H22-P22 -> 382.26667
C23: Junho | D23: =(SUM('Valor do Ponto'!L4:L8,'Valor do Ponto'!H4:K15,'Valor do Ponto'!G9:G15)*100) -> 322798 | E23: =D23/60 -> 5379.9667 | F23: ='Valor do Ponto'!L9 -> 67.85 | G23: =E23/F23 -> 79.292066 | H23: =(F23*100)-(G23*F23) -> 1405.0333 | K23: Junho | L23: 100 | M23: =L23*F23 -> 6785 | N23: 0.84 | O23: =N23*M23 -> 5699.4 | P23: =M23-O23 -> 1085.6 | Q23: =H23-P23 -> 319.43333
C24: Julho | D24: =(SUM('Valor do Ponto'!L4:L9,'Valor do Ponto'!H4:K15,'Valor do Ponto'!G10:G15)*100) -> 326568 | E24: =D24/60 -> 5442.8 | F24: ='Valor do Ponto'!L10 -> 67.85 | G24: =E24/F24 -> 80.218128 | H24: =(F24*100)-(G24*F24) -> 1342.2 | K24: Julho | L24: 100 | M24: =L24*F24 -> 6785 | N24: 0.84 | O24: =N24*M24 -> 5699.4 | P24: =M24-O24 -> 1085.6 | Q24: =H24-P24 -> 256.6
C25: Agosto | D25: =(SUM('Valor do Ponto'!G11:G15,'Valor do Ponto'!H4:K15,'Valor do Ponto'!L4:L10)*100) -> 330338 | E25: =D25/60 -> 5505.6333 | F25: ='Valor do Ponto'!L11 -> 67.85 | G25: =E25/F25 -> 81.144191 | H25: =(F25*100)-(G25*F25) -> 1279.3667 | K25: Agosto | L25: 100 | M25: =L25*F25 -> 6785 | N25: 0.84 | O25: =N25*M25 -> 5699.4 | P25: =M25-O25 -> 1085.6 | Q25: =H25-P25 -> 193.76667
C26: Setembro | D26: =(SUM('Valor do Ponto'!G12:G15,'Valor do Ponto'!H4:K15,'Valor do Ponto'!L4:L11)*100) -> 334108 | E26: =D26/60 -> 5568.4667 | F26: ='Valor do Ponto'!L12 -> 67.85 | G26: =E26/F26 -> 82.070253 | H26: =(F26*100)-(G26*F26) -> 1216.5333 | K26: Setembro | L26: 100 | M26: =L26*F26 -> 6785 | N26: 0.84 | O26: =N26*M26 -> 5699.4 | P26: =M26-O26 -> 1085.6 | Q26: =H26-P26 -> 130.93333
C27: Outubro | D27: =(SUM('Valor do Ponto'!G13:G15,'Valor do Ponto'!H4:K15,'Valor do Ponto'!L4:L12)*100) -> 337878 | E27: =D27/60 -> 5631.3 | F27: ='Valor do Ponto'!L13 -> 67.85 | G27: =E27/F27 -> 82.996315 | H27: =(F27*100)-(G27*F27) -> 1153.7 | K27: Outubro | L27: 100 | M27: =L27*F27 -> 6785 | N27: 0.84 | O27: =N27*M27 -> 5699.4 | P27: =M27-O27 -> 1085.6 | Q27: =H27-P27 -> 68.1
C28: Novembro | D28: =(SUM('Valor do Ponto'!G14:G15,'Valor do Ponto'!H4:K15,'Valor do Ponto'!L4:L13)*100) -> 341648 | E28: =D28/60 -> 5694.1333 | F28: ='Valor do Ponto'!L14 -> 67.85 | G28: =E28/F28 -> 83.922378 | H28: =(F28*100)-(G28*F28) -> 1090.8667 | K28: Novembro | L28: 100 | M28: =L28*F28 -> 6785 | N28: 0.84 | O28: =N28*M28 -> 5699.4 | P28: =M28-O28 -> 1085.6 | Q28: =H28-P28 -> 5.2666667
C29: Dezembro | D29: =(SUM('Valor do Ponto'!G15,'Valor do Ponto'!H4:K15,'Valor do Ponto'!L4:L14)*100) -> 345418 | E29: =D29/60 -> 5756.9667 | F29: ='Valor do Ponto'!L15 -> 67.85 | G29: =E29/F29 -> 84.84844 | H29: =(F29*100)-(G29*F29) -> 1028.0333 | K29: Dezembro | L29: 100 | M29: =L29*F29 -> 6785 | N29: 0.84 | O29: =N29*M29 -> 5699.4 | P29: =M29-O29 -> 1085.6 | Q29: =H29-P29 -> -57.566667
B30: 2019 | C30: Janeiro | D30: =(SUM('Valor do Ponto'!H4:L15)*100) -> 349188 | E30: =D30/60 -> 5819.8 | F30: ='Valor do Ponto'!M4 -> 72.13 | G30: =E30/F30 -> 80.684875 | H30: =(F30*100)-(G30*F30) -> 1393.2 | J30: 2019 | K30: Janeiro | L30: 100 | M30: =L30*F30 -> 7213 | N30: 1 | O30: =N30*M30 -> 7213 | P30: =M30-O30 -> 0 | Q30: =H30-P30 -> 1393.2
C31: Fevereiro | D31: =(SUM('Valor do Ponto'!M4,'Valor do Ponto'!I4:L15,'Valor do Ponto'!H5:H15)*100) -> 351726 | E31: =D31/60 -> 5862.1 | F31: ='Valor do Ponto'!M5 -> 72.13 | G31: =E31/F31 -> 81.271316 | H31: =(F31*100)-(G31*F31) -> 1350.9 | K31: Fevereiro | L31: 100 | M31: =L31*F31 -> 7213 | N31: 1 | O31: =N31*M31 -> 7213 | P31: =M31-O31 -> 0 | Q31: =H31-P31 -> 1350.9
C32: Março | D32: =(SUM('Valor do Ponto'!M4:M5,'Valor do Ponto'!I4:L15,'Valor do Ponto'!H6:H15)*100) -> 354264 | E32: =D32/60 -> 5904.4 | F32: ='Valor do Ponto'!M6 -> 72.13 | G32: =E32/F32 -> 81.857757 | H32: =(F32*100)-(G32*F32) -> 1308.6 | K32: Março | L32: 100 | M32: =L32*F32 -> 7213 | N32: 1 | O32: =N32*M32 -> 7213 | P32: =M32-O32 -> 0 | Q32: =H32-P32 -> 1308.6
C33: Abril | D33: =(SUM('Valor do Ponto'!M4:M6,'Valor do Ponto'!I4:L15,'Valor do Ponto'!H7:H15)*100) -> 356802 | E33: =D33/60 -> 5946.7 | F33: ='Valor do Ponto'!M7 -> 72.13 | G33: =E33/F33 -> 82.444198 | H33: =(F33*100)-(G33*F33) -> 1266.3 | K33: Abril | L33: 100 | M33: =L33*F33 -> 7213 | N33: 1 | O33: =N33*M33 -> 7213 | P33: =M33-O33 -> 0 | Q33: =H33-P33 -> 1266.3
C34: Maio | D34: =(SUM('Valor do Ponto'!H8:H15,'Valor do Ponto'!I4:L15,'Valor do Ponto'!M4:M7)*100) -> 359340 | E34: =D34/60 -> 5989 | F34: ='Valor do Ponto'!M8 -> 72.13 | G34: =E34/F34 -> 83.030639 | H34: =(F34*100)-(G34*F34) -> 1224 | K34: Maio | L34: 100 | M34: =L34*F34 -> 7213 | N34: 1 | O34: =N34*M34 -> 7213 | P34: =M34-O34 -> 0 | Q34: =H34-P34 -> 1224
C35: Junho | D35: =(SUM('Valor do Ponto'!H9:H15,'Valor do Ponto'!I4:L15,'Valor do Ponto'!M4:M8)*100) -> 361878 | E35: =D35/60 -> 6031.3 | F35: ='Valor do Ponto'!M9 -> 72.13 | G35: =E35/F35 -> 83.61708 | H35: =(F35*100)-(G35*F35) -> 1181.7 | K35: Junho | L35: 100 | M35: =L35*F35 -> 7213 | N35: 1 | O35: =N35*M35 -> 7213 | P35: =M35-O35 -> 0 | Q35: =H35-P35 -> 1181.7
C36: Julho | D36: =(SUM('Valor do Ponto'!H10:H15,'Valor do Ponto'!I4:L15,'Valor do Ponto'!M4:M9)*100) -> 364416 | E36: =D36/60 -> 6073.6 | F36: ='Valor do Ponto'!M10 -> 72.13 | G36: =E36/F36 -> 84.203521 | H36: =(F36*100)-(G36*F36) -> 1139.4 | K36: Julho | L36: 100 | M36: =L36*F36 -> 7213 | N36: 1 | O36: =N36*M36 -> 7213 | P36: =M36-O36 -> 0 | Q36: =H36-P36 -> 1139.4
C37: Agosto | D37: =(SUM('Valor do Ponto'!H11:H15,'Valor do Ponto'!I4:L15,'Valor do Ponto'!M4:M10)*100) -> 366954 | E37: =D37/60 -> 6115.9 | F37: ='Valor do Ponto'!M11 -> 72.13 | G37: =E37/F37 -> 84.789963 | H37: =(F37*100)-(G37*F37) -> 1097.1 | K37: Agosto | L37: 100 | M37: =L37*F37 -> 7213 | N37: 1 | O37: =N37*M37 -> 7213 | P37: =M37-O37 -> 0 | Q37: =H37-P37 -> 1097.1
C38: Setembro | D38: =(SUM('Valor do Ponto'!H12:H15,'Valor do Ponto'!I4:L15,'Valor do Ponto'!M4:M11)*100) -> 369492 | E38: =D38/60 -> 6158.2 | F38: ='Valor do Ponto'!M12 -> 72.13 | G38: =E38/F38 -> 85.376404 | H38: =(F38*100)-(G38*F38) -> 1054.8 | K38: Setembro | L38: 100 | M38: =L38*F38 -> 7213 | N38: 1 | O38: =N38*M38 -> 7213 | P38: =M38-O38 -> 0 | Q38: =H38-P38 -> 1054.8
C39: Outubro | D39: =(SUM('Valor do Ponto'!H13:H15,'Valor do Ponto'!I4:L15,'Valor do Ponto'!M4:M12)*100) -> 372030 | E39: =D39/60 -> 6200.5 | F39: ='Valor do Ponto'!M13 -> 72.13 | G39: =E39/F39 -> 85.962845 | H39: =(F39*100)-(G39*F39) -> 1012.5 | K39: Outubro | L39: 100 | M39: =L39*F39 -> 7213 | N39: 1 | O39: =N39*M39 -> 7213 | P39: =M39-O39 -> 0 | Q39: =H39-P39 -> 1012.5
C40: Novembro | D40: =(SUM('Valor do Ponto'!H14:H15,'Valor do Ponto'!I4:L15,'Valor do Ponto'!M4:M13)*100) -> 374568 | E40: =D40/60 -> 6242.8 | F40: ='Valor do Ponto'!M14 -> 72.13 | G40: =E40/F40 -> 86.549286 | H40: =(F40*100)-(G40*F40) -> 970.2 | K40: Novembro | L40: 100 | M40: =L40*F40 -> 7213 | N40: 1 | O40: =N40*M40 -> 7213 | P40: =M40-O40 -> 0 | Q40: =H40-P40 -> 970.2
C41: Dezembro | D41: =(SUM('Valor do Ponto'!H15,'Valor do Ponto'!I4:L15,'Valor do Ponto'!M4:M14)*100) -> 377106 | E41: =D41/60 -> 6285.1 | F41: ='Valor do Ponto'!M15 -> 72.13 | G41: =E41/F41 -> 87.135727 | H41: =(F41*100)-(G41*F41) -> 927.9 | K41: Dezembro | L41: 100 | M41: =L41*F41 -> 7213 | N41: 1 | O41: =N41*M41 -> 7213 | P41: =M41-O41 -> 0 | Q41: =H41-P41 -> 927.9
...
